BEGIN:VCALENDAR
VERSION:2.0
PRODID:-//Arts Council of Anne Arundel County - ECPv6.15.18//NONSGML v1.0//EN
CALSCALE:GREGORIAN
METHOD:PUBLISH
X-ORIGINAL-URL:https://www.acaac.org
X-WR-CALDESC:Events for Arts Council of Anne Arundel County
REFRESH-INTERVAL;VALUE=DURATION:PT1H
X-Robots-Tag:noindex
X-PUBLISHED-TTL:PT1H
BEGIN:VTIMEZONE
TZID:America/New_York
BEGIN:DAYLIGHT
TZOFFSETFROM:-0500
TZOFFSETTO:-0400
TZNAME:EDT
DTSTART:20250309T070000
END:DAYLIGHT
BEGIN:STANDARD
TZOFFSETFROM:-0400
TZOFFSETTO:-0500
TZNAME:EST
DTSTART:20251102T060000
END:STANDARD
BEGIN:DAYLIGHT
TZOFFSETFROM:-0500
TZOFFSETTO:-0400
TZNAME:EDT
DTSTART:20260308T070000
END:DAYLIGHT
BEGIN:STANDARD
TZOFFSETFROM:-0400
TZOFFSETTO:-0500
TZNAME:EST
DTSTART:20261101T060000
END:STANDARD
BEGIN:DAYLIGHT
TZOFFSETFROM:-0500
TZOFFSETTO:-0400
TZNAME:EDT
DTSTART:20270314T070000
END:DAYLIGHT
BEGIN:STANDARD
TZOFFSETFROM:-0400
TZOFFSETTO:-0500
TZNAME:EST
DTSTART:20271107T060000
END:STANDARD
END:VTIMEZONE
BEGIN:VEVENT
DTSTART;TZID=America/New_York:20260329T140000
DTEND;TZID=America/New_York:20260329T160000
DTSTAMP:20260420T152816
CREATED:20260327T182903Z
LAST-MODIFIED:20260327T182903Z
UID:10014489-1774792800-1774800000@www.acaac.org
SUMMARY:Classic Theatre of Maryland presents DANCING THROUGH THE DECADES with the Unified Jazz Ensemble
DESCRIPTION:Six decades. Endless music. Unforgettable dance.\nTake a dazzling journey through the music and dance that defined America’s most iconic eras! From the roaring rhythms of the 1920s to the high-energy hits of the 1980s\, this brand-new musical revue brings each decade to life with show-stopping choreography\, unforgettable songs\, and the timeless spirit of dance. Perfect for audiences of all ages\, Dancing Through the Decades is a toe-tapping celebration of the styles and sounds that shaped generations. \nThis original musical review features Featuring the Unified Jazz Ensemble.
URL:https://www.acaac.org/event/classic-theatre-of-maryland-presents-dancing-through-the-decades-with-the-unified-jazz-ensemble/2026-03-29/
LOCATION:Classic Theatre of Maryland\, 1804 West Street\, Annapolis\, MD\, 21401\, United States
CATEGORIES:Performance
ATTACH;FMTTYPE=image/jpeg:https://www.acaac.org/wp-content/uploads/2026/03/DSC_5621.jpg
ORGANIZER;CN="Classic Theatre of Maryland":MAILTO:BoxOffice@classictheatremaryland.org
END:VEVENT
BEGIN:VEVENT
DTSTART;TZID=America/New_York:20260328T200000
DTEND;TZID=America/New_York:20260328T220000
DTSTAMP:20260420T152816
CREATED:20260327T182903Z
LAST-MODIFIED:20260327T182903Z
UID:10014488-1774728000-1774735200@www.acaac.org
SUMMARY:Classic Theatre of Maryland presents DANCING THROUGH THE DECADES with the Unified Jazz Ensemble
DESCRIPTION:Six decades. Endless music. Unforgettable dance.\nTake a dazzling journey through the music and dance that defined America’s most iconic eras! From the roaring rhythms of the 1920s to the high-energy hits of the 1980s\, this brand-new musical revue brings each decade to life with show-stopping choreography\, unforgettable songs\, and the timeless spirit of dance. Perfect for audiences of all ages\, Dancing Through the Decades is a toe-tapping celebration of the styles and sounds that shaped generations. \nThis original musical review features Featuring the Unified Jazz Ensemble.
URL:https://www.acaac.org/event/classic-theatre-of-maryland-presents-dancing-through-the-decades-with-the-unified-jazz-ensemble/2026-03-28/
LOCATION:Classic Theatre of Maryland\, 1804 West Street\, Annapolis\, MD\, 21401\, United States
CATEGORIES:Performance
ATTACH;FMTTYPE=image/jpeg:https://www.acaac.org/wp-content/uploads/2026/03/DSC_5621.jpg
ORGANIZER;CN="Classic Theatre of Maryland":MAILTO:BoxOffice@classictheatremaryland.org
END:VEVENT
BEGIN:VEVENT
DTSTART;TZID=America/New_York:20260327T200000
DTEND;TZID=America/New_York:20260327T220000
DTSTAMP:20260420T152816
CREATED:20260327T182903Z
LAST-MODIFIED:20260327T182903Z
UID:10014487-1774641600-1774648800@www.acaac.org
SUMMARY:Classic Theatre of Maryland presents DANCING THROUGH THE DECADES with the Unified Jazz Ensemble
DESCRIPTION:Six decades. Endless music. Unforgettable dance.\nTake a dazzling journey through the music and dance that defined America’s most iconic eras! From the roaring rhythms of the 1920s to the high-energy hits of the 1980s\, this brand-new musical revue brings each decade to life with show-stopping choreography\, unforgettable songs\, and the timeless spirit of dance. Perfect for audiences of all ages\, Dancing Through the Decades is a toe-tapping celebration of the styles and sounds that shaped generations. \nThis original musical review features Featuring the Unified Jazz Ensemble.
URL:https://www.acaac.org/event/classic-theatre-of-maryland-presents-dancing-through-the-decades-with-the-unified-jazz-ensemble/2026-03-27/
LOCATION:Classic Theatre of Maryland\, 1804 West Street\, Annapolis\, MD\, 21401\, United States
CATEGORIES:Performance
ATTACH;FMTTYPE=image/jpeg:https://www.acaac.org/wp-content/uploads/2026/03/DSC_5621.jpg
ORGANIZER;CN="Classic Theatre of Maryland":MAILTO:BoxOffice@classictheatremaryland.org
END:VEVENT
END:VCALENDAR