BEGIN:VCALENDAR
VERSION:2.0
PRODID:-//Arts Council of Anne Arundel County - ECPv6.15.18//NONSGML v1.0//EN
CALSCALE:GREGORIAN
METHOD:PUBLISH
X-WR-CALNAME:Arts Council of Anne Arundel County
X-ORIGINAL-URL:https://www.acaac.org
X-WR-CALDESC:Events for Arts Council of Anne Arundel County
REFRESH-INTERVAL;VALUE=DURATION:PT1H
X-Robots-Tag:noindex
X-PUBLISHED-TTL:PT1H
BEGIN:VTIMEZONE
TZID:America/New_York
BEGIN:DAYLIGHT
TZOFFSETFROM:-0500
TZOFFSETTO:-0400
TZNAME:EDT
DTSTART:20250309T070000
END:DAYLIGHT
BEGIN:STANDARD
TZOFFSETFROM:-0400
TZOFFSETTO:-0500
TZNAME:EST
DTSTART:20251102T060000
END:STANDARD
BEGIN:DAYLIGHT
TZOFFSETFROM:-0500
TZOFFSETTO:-0400
TZNAME:EDT
DTSTART:20260308T070000
END:DAYLIGHT
BEGIN:STANDARD
TZOFFSETFROM:-0400
TZOFFSETTO:-0500
TZNAME:EST
DTSTART:20261101T060000
END:STANDARD
BEGIN:DAYLIGHT
TZOFFSETFROM:-0500
TZOFFSETTO:-0400
TZNAME:EDT
DTSTART:20270314T070000
END:DAYLIGHT
BEGIN:STANDARD
TZOFFSETFROM:-0400
TZOFFSETTO:-0500
TZNAME:EST
DTSTART:20271107T060000
END:STANDARD
END:VTIMEZONE
BEGIN:VEVENT
DTSTART;TZID=America/New_York:20260502T130000
DTEND;TZID=America/New_York:20260502T170000
DTSTAMP:20260423T155455
CREATED:20260423T144353Z
LAST-MODIFIED:20260423T144353Z
UID:10015081-1777726800-1777741200@www.acaac.org
SUMMARY:CP Open Auditions for Our Town
DESCRIPTION:AUDITIONS for Our Town\, written by Thornton Wilder\, directed by Rick Wade.\nPerformance Dates: September 11 – October 3\, 2026\nAll roles are open and non-paying. This show requires ~25 performers. Actors of all races and ethnicities are encouraged to audition. Our goal is a town of rich diversity.\nShow Synopsis:\nSet in the small New England community of Grover’s Corners\, Our Town follows the lives of the Webb and Gibbs families as they navigate love\, marriage\, and loss. Guided by the ever-watchful Stage Manager\, the play reveals the extraordinary beauty hidden in everyday moments. Our Town invites us to pause\, reflect\, and rediscover the simple connections that bind a community together—onstage and off.\nFor full details and timings please visit our website.\nhttps://https://thecolonialplayers.org/index.php/get-involved/auditions/1299-our-town-auditions
URL:https://www.acaac.org/event/cp-open-auditions-for-our-town/2026-05-02/
LOCATION:The Colonial Players Annex\, 2132 Renard Court\, Annapolis\, Maryland\, 21401
ATTACH;FMTTYPE=image/png:https://www.acaac.org/wp-content/uploads/2026/04/Arts-Council-1.png
ORGANIZER;CN="The Colonial Players of Annapolis":MAILTO:boxoffice@thecolonialplayers.org
END:VEVENT
BEGIN:VEVENT
DTSTART;TZID=America/New_York:20260503T130000
DTEND;TZID=America/New_York:20260503T170000
DTSTAMP:20260423T155455
CREATED:20260423T144353Z
LAST-MODIFIED:20260423T144353Z
UID:10015082-1777813200-1777827600@www.acaac.org
SUMMARY:CP Open Auditions for Our Town
DESCRIPTION:AUDITIONS for Our Town\, written by Thornton Wilder\, directed by Rick Wade.\nPerformance Dates: September 11 – October 3\, 2026\nAll roles are open and non-paying. This show requires ~25 performers. Actors of all races and ethnicities are encouraged to audition. Our goal is a town of rich diversity.\nShow Synopsis:\nSet in the small New England community of Grover’s Corners\, Our Town follows the lives of the Webb and Gibbs families as they navigate love\, marriage\, and loss. Guided by the ever-watchful Stage Manager\, the play reveals the extraordinary beauty hidden in everyday moments. Our Town invites us to pause\, reflect\, and rediscover the simple connections that bind a community together—onstage and off.\nFor full details and timings please visit our website.\nhttps://https://thecolonialplayers.org/index.php/get-involved/auditions/1299-our-town-auditions
URL:https://www.acaac.org/event/cp-open-auditions-for-our-town/2026-05-03/
LOCATION:The Colonial Players Annex\, 2132 Renard Court\, Annapolis\, Maryland\, 21401
ATTACH;FMTTYPE=image/png:https://www.acaac.org/wp-content/uploads/2026/04/Arts-Council-1.png
ORGANIZER;CN="The Colonial Players of Annapolis":MAILTO:boxoffice@thecolonialplayers.org
END:VEVENT
END:VCALENDAR