BEGIN:VCALENDAR
VERSION:2.0
PRODID:-//Arts Council of Anne Arundel County - ECPv6.15.18//NONSGML v1.0//EN
CALSCALE:GREGORIAN
METHOD:PUBLISH
X-WR-CALNAME:Arts Council of Anne Arundel County
X-ORIGINAL-URL:https://www.acaac.org
X-WR-CALDESC:Events for Arts Council of Anne Arundel County
REFRESH-INTERVAL;VALUE=DURATION:PT1H
X-Robots-Tag:noindex
X-PUBLISHED-TTL:PT1H
BEGIN:VTIMEZONE
TZID:America/New_York
BEGIN:DAYLIGHT
TZOFFSETFROM:-0500
TZOFFSETTO:-0400
TZNAME:EDT
DTSTART:20240310T070000
END:DAYLIGHT
BEGIN:STANDARD
TZOFFSETFROM:-0400
TZOFFSETTO:-0500
TZNAME:EST
DTSTART:20241103T060000
END:STANDARD
BEGIN:DAYLIGHT
TZOFFSETFROM:-0500
TZOFFSETTO:-0400
TZNAME:EDT
DTSTART:20250309T070000
END:DAYLIGHT
BEGIN:STANDARD
TZOFFSETFROM:-0400
TZOFFSETTO:-0500
TZNAME:EST
DTSTART:20251102T060000
END:STANDARD
BEGIN:DAYLIGHT
TZOFFSETFROM:-0500
TZOFFSETTO:-0400
TZNAME:EDT
DTSTART:20260308T070000
END:DAYLIGHT
BEGIN:STANDARD
TZOFFSETFROM:-0400
TZOFFSETTO:-0500
TZNAME:EST
DTSTART:20261101T060000
END:STANDARD
BEGIN:DAYLIGHT
TZOFFSETFROM:-0500
TZOFFSETTO:-0400
TZNAME:EDT
DTSTART:20270314T070000
END:DAYLIGHT
BEGIN:STANDARD
TZOFFSETFROM:-0400
TZOFFSETTO:-0500
TZNAME:EST
DTSTART:20271107T060000
END:STANDARD
END:VTIMEZONE
BEGIN:VEVENT
DTSTART;TZID=America/New_York:20260122T133000
DTEND;TZID=America/New_York:20260122T153000
DTSTAMP:20260420T173437
CREATED:20250818T175424Z
LAST-MODIFIED:20250818T175424Z
UID:10010582-1769088600-1769095800@www.acaac.org
SUMMARY:THEATRE PRODUCTION WORKSHOP (non-musical) HOMESCHOOL EDITION
DESCRIPTION:THEATRE PRODUCTION WORKSHOP (non-musical) HOMESCHOOL EDITION\nAn Ogre’s Adventures: Make room for ogre-sized fun as the greatest fairy tale never told comes to life in this Theatre Production Workshop! This is a one-of-a-kind\, comical story in which curses are reversed\, monsters get the girls\, and princesses are beautiful in all shapes and sizes. \nOnce upon a time\, in a swamp far\, far away\, there lived an ogre named Simon whose precious solitude is suddenly shattered by an invasion of annoying fairy tale characters. They were all banished from their kingdom by the evil Lord Nearquad. Determined to save their homes & get them to leave the ogre cuts a deal with the obsessive ruler and sets out to rescue Princess Fergie to be Nearquad’s bride. But…the Princess has a deep\, dark secret. After all\, a fairytale wouldn’t be complete without a few twists and turns along the way. \n*****************************************************\nThrough theatre production workshops\, students gain experience and knowledge in acting techniques\, improvisation\, characterization\, movement\, props\, scenery\, and much more. These workshops conclude with a final performance on our main stage. In production workshops\, teamwork is a major focus and all participants are guaranteed a role. We encourage students with all levels of experience to attend. * NOTE: Theatre Production Workshop show titles are subject to change due to cast size and requirements.\n***************************************************** \nAGES: 7-18 (Level: Beginner-Advanced)\nWHEN: 1:30-3:30 p.m.; Thursdays\, Oct. 30-Jan. 22 (no class on 11/27\, 12/25\, 01/01). Final performance at 6:00 pm on Jan. 22\, 2026.\nTUITION: $290.00 (must have current 25/26 Annual Registration) + online processing fees\nTEACHING ARTIST: Miss Tiffany (Tiffany Shannon Productions)\nLINK TO REGISTER: https://www.childrenstheatreofannapolis.org/education/
URL:https://www.acaac.org/event/theatre-production-workshop-non-musical-homeschool-edition/2026-01-22/
LOCATION:Children’s Theatre of Annapolis\, 1661 Bay Head Road\, Annapolis\, MD\, 21409\, United States
CATEGORIES:Children's Activities,Classes
ATTACH;FMTTYPE=image/png:https://www.acaac.org/wp-content/uploads/2025/08/AOA-HOMESCHOOL-Thursday.png
ORGANIZER;CN="Children's Theatre of Annapolis":MAILTO:info@childrenstheatreofannapolis.org
END:VEVENT
BEGIN:VEVENT
DTSTART;TZID=America/New_York:20260122T080000
DTEND;TZID=America/New_York:20260122T170000
DTSTAMP:20260420T173437
CREATED:20251205T162328Z
LAST-MODIFIED:20251208T164210Z
UID:10012119-1769068800-1769101200@www.acaac.org
SUMMARY:Small Gems at McBride Gallery
DESCRIPTION:‘Tis the Season for tiny treasures! We are featuring an array of Small Gems pieces throughout December and into the New Year. We are also featuring new work by Victor Nizovstev. The McBride Gallery is brimming with holiday spirit\, and the artists are excited to share what they have made.
URL:https://www.acaac.org/event/small-gems/2026-01-22/
LOCATION:McBride Gallery\, 215 Main Street\, Annapolis\, MD\, 21108\, United States
CATEGORIES:Exhibit,Visual
ATTACH;FMTTYPE=image/jpeg:https://www.acaac.org/wp-content/uploads/2025/12/2025SmallGemsShow.jpg
ORGANIZER;CN="McBride Gallery":MAILTO:info@mcbridegallery.com
END:VEVENT
BEGIN:VEVENT
DTSTART;TZID=America/New_York:20260122T063000
DTEND;TZID=America/New_York:20260122T203000
DTSTAMP:20260420T173437
CREATED:20251222T144751Z
LAST-MODIFIED:20251222T144751Z
UID:10013487-1769063400-1769113800@www.acaac.org
SUMMARY:Sketch Night 2026
DESCRIPTION:Teens and Adults Welcome! \nLive figure drawing meets killer playlist. A unique life drawing experience featuring models ranging from burlesque performers to professional life models\, in both costume and nude. \nBYO supplies. We do have drawing boards\, easels\, and basic drawing supplies available if you need them. Feel free to bring a snack or a drink to enjoy during the session. \nSketch Nights always start with some short warmups\, then 5-10 minute sessions\, and end with 20-minute drawing sessions as the model moves through a variety of poses. \nNew Monthly Schedule for 2026: \n\n\n\nSecond Thursdays – Themed costume sessions with creative concepts (Jan-December)\nFourth Thursdays – Dedicated nude figure drawing (January\, March\, May\, September)\n\n\n\n  \n2026 Themes to Inspire You: \nFrom “Winter Luxe” fur coats and vintage ski wear in January to “Steampunk” adventures in November\, we’ve curated twelve unique themes\, including Valentine’s Romance\, Navy Nautical\, Afrofuturism\, Gothic Halloween\, and Holiday Elegance. Each month brings a fresh visual story to sketch!
URL:https://www.acaac.org/event/sketch-night-2026/2026-01-22/
LOCATION:ArtFarm Annapolis\, 111 Chinquapin Round Rd.\, Suite 200\, Maryland\, Annapolis
CATEGORIES:Classes,Visual
ATTACH;FMTTYPE=image/jpeg:https://www.acaac.org/wp-content/uploads/2025/12/AF-AfterDark_no-logo2.jpg
ORGANIZER;CN="ArtFarm Studios":MAILTO:info@artfarmannapolis.com
END:VEVENT
BEGIN:VEVENT
DTSTART;VALUE=DATE:20260122
DTEND;VALUE=DATE:20260302
DTSTAMP:20260420T173438
CREATED:20251120T154004Z
LAST-MODIFIED:20251120T154004Z
UID:10011864-1769040000-1772409599@www.acaac.org
SUMMARY:The Power Within: Honoring Black History Month Exhibition
DESCRIPTION:The Power Within: Honoring Black History Month group exhibition is a vibrant tribute to the spirit and legacy of Black and African American artists. Inspired by this year’s Black History Month theme\, “A Century of Black History Commemorations\,” the exhibition weaves a century of remembrance through bold\, visionary artworks. Each piece reflects the strength\, creativity\, and collective memory shaping each artist\, inviting audiences to see art as both a vessel of history and a force for transformation. \nDeadline for applications – Sunday\, December 7\, 2025. For more information and how to apply\, please visit our application here –https://docs.google.com/forms/d/e/1FAIpQLSf_DcTO7f5kCXm6aihEvthG8dUD2Eed6nysnU9YktsjRYR_SQ/viewform \nThis exhibition is on view in Chesapeake Arts Center’s Hal Gomer Gallery from January 22 – March 1\, 2026.
URL:https://www.acaac.org/event/the-power-within-honoring-black-history-month-exhibition-2/
LOCATION:Chesapeake Arts Center\, 194 Hammonds Lane\, Studio 194\, Brooklyn Park\, MD\, MD\, 21225\, United States
CATEGORIES:Exhibit
ATTACH;FMTTYPE=image/png:https://www.acaac.org/wp-content/uploads/2025/11/The-Power-Within_GALLERY-GRAPHIC-TEMPLATES-square-2.png
ORGANIZER;CN="Chesapeake Arts Center":MAILTO:info@chesapeakearts.org
END:VEVENT
BEGIN:VEVENT
DTSTART;VALUE=DATE:20260122
DTEND;VALUE=DATE:20260218
DTSTAMP:20260420T173438
CREATED:20251120T153144Z
LAST-MODIFIED:20260120T204847Z
UID:10011862-1769040000-1771372799@www.acaac.org
SUMMARY:Brooklyn Park Middle School Apex Arts Exhibition
DESCRIPTION:The Apex Arts Magnet program at Brooklyn Park Middle School brings student creativity to life\, showcasing a vibrant array of artwork that reflects imagination\, skill\, and artistic growth. Alongside its counterpart program at Bates Middle School\, it highlights the power of immersive arts instruction\, guided by talented teachers and professional artists\, cultivating not only artistic excellence but also collaboration\, community connection\, and a lasting love for the arts. \nThis exhibit is on view in our Patricia Barland Gallery from January 22-February 17\, 2026.
URL:https://www.acaac.org/event/gallery-reception-for-brooklyn-park-middle-school-apex-arts-exhibition-3/
LOCATION:Chesapeake Arts Center\, 194 Hammonds Lane\, Studio 194\, Brooklyn Park\, MD\, MD\, 21225\, United States
CATEGORIES:Exhibit
ATTACH;FMTTYPE=image/png:https://www.acaac.org/wp-content/uploads/2025/11/ApexArts-2026-1.png
END:VEVENT
BEGIN:VEVENT
DTSTART;TZID=America/New_York:20260121T173000
DTEND;TZID=America/New_York:20260121T193000
DTSTAMP:20260420T173438
CREATED:20250818T170638Z
LAST-MODIFIED:20250818T170800Z
UID:10010571-1769016600-1769023800@www.acaac.org
SUMMARY:Shrek The Musical KIDS at CTA (Wednesdays)
DESCRIPTION:MUSICAL THEATRE PRODUCTION WORKSHOPS\nBeauty is in the eye of the ogre in DreamWorks Theatricals Shrek The Musical KIDS\, based on the Oscar-winning DreamWorks Animation film and fantastic Broadway musical. It’s a “big bright beautiful world” as everyone’s favorite ogre\, Shrek\, leads a cast of fairytale misfits on an adventure to rescue a princess and find true acceptance. Part romance and part twisted fairy tale\, Shrek KIDS is an irreverently fun show with a powerful message for the whole family.Once upon a time\, in a faraway swamp\, there lived an ogre named Shrek. One day\, Shrek finds his swamp invaded by banished fairytale misfits who have been cast off by Lord Farquaad\, a tiny terror with big ambitions. When Shrek sets off with a wisecracking donkey to confront Farquaad\, he’s handed a task — if he rescues feisty princess Fiona\, his swamp will be righted. Shrek tries to win Fiona’s love and vanquish Lord Farquaad\, but a fairytale wouldn’t be complete without a few twists and turns along the way.* * * * * * * * * * * * * * * * * * * * * * * * * * * * * *\nThrough theatre production workshops students gain experience and knowledge in acting techniques\, improvisation\, characterization\, movement\, props\, scenery\, and much more. These workshops conclude with a final performance on our main stage. In production workshops\, teamwork is a major focus and all participants are guaranteed a role. We encourage students with all levels of experience to attend. * NOTE: Theatre Production Workshop show titles are subject to change due to cast size and requirements.\n* * * * * * * * * * * * * * * * * * * * * * * * * * * * * *AGES: 7-18 (Level: Beginner-Advanced)\nWHEN: 5:30-7:30 p.m.; Mondays\, October 20\, 2025-January 26\, 2026 (no class 11/24\, 12/22\, 12/29) Final performance at 7:30pm on January 26\, 2026. \n\n\nAGES: 7-13 (Level: Beginner-Advanced)\nWHEN: 5:30-7:30 p.m.; Wednesdays\, October 22\, 2025-January 28\, 2026 (no class 11/26\, 12/25\, 01/13) Final performance at 7:30pm on January 28\, 2026.\nTUITION: $415.00 (must have current 25/26 Annual Registration) + online processing fees\nTEACHING ARTIST: Miss Tiffany (Tiffany Shannon Productions)\nREGISTRATION LINK: https://www.childrenstheatreofannapolis.org/education/
URL:https://www.acaac.org/event/shrek-the-musical-kids-at-cta-2/2026-01-21/
LOCATION:Children’s Theatre of Annapolis\, 1661 Bay Head Road\, Annapolis\, MD\, 21409\, United States
CATEGORIES:Children's Activities,Classes,Performance
ATTACH;FMTTYPE=image/png:https://www.acaac.org/wp-content/uploads/2025/08/STMK-Wednesday.png
ORGANIZER;CN="Children%E2%80%99s Theatre of Annapolis":MAILTO:aprilforrer@childrenstheatreofannapolis.org
END:VEVENT
BEGIN:VEVENT
DTSTART;TZID=America/New_York:20260121T080000
DTEND;TZID=America/New_York:20260121T170000
DTSTAMP:20260420T173438
CREATED:20260122T152519Z
LAST-MODIFIED:20260122T152519Z
UID:10014166-1768982400-1769014800@www.acaac.org
SUMMARY:Transform Your Photos: Photo Editing & File Organizing Workshop
DESCRIPTION:“I Took Some Pictures. Now What?” \nWhether you’ve just returned from an unforgettable trip\, captured your kid’s birthday celebration\, or want to showcase the beauty of your garden\, your camera is full of precious moments. But what comes next? \nJoin our 4-hour\, hands-on workshop and learn how to turn your raw photos into polished\, print-ready memories while getting your files organized like a pro. \nWhat You’ll Learn: \n\n\n\nFrom Memory Card to Print Ready: Transfer and manage your photos seamlessly.\nFile Management Simplified: Practical tips for organizing your digital images for easy access.\nPhoto Editing Basics: Learn essential editing techniques using Adobe Lightroom\, Photoshop\, or GIMP.\n\n\n\n  \nWhat’s Included: \n\n\n\nHands-on guidance from an experienced ArtFarm instructor and professional photographer.\nTroubleshooting\, workflow tips\, and personalized support tailored to your needs.\n\n\n\n  \nWho Should Attend?\nThis workshop is perfect for anyone\, whether you’re a complete beginner or looking to refine your digital workflow. No prior photography experience is needed—just a computer with photo editing software installed (Adobe Lightroom\, Photoshop\, or GIMP) and your images ready to go. \nTake control of your photo collection and unlock the potential of your memories. Space is limited\, so sign up today and start creating with confidence! \nNOTE: \nYou must download or subscribe to one of these photo editing programs before this class begins: \nPhotoshop & Lightroom bundle through Adobe: $9.99/month (recommended) \nGIMP: Free option
URL:https://www.acaac.org/event/transform-your-photos-photo-editing-file-organizing-workshop/
LOCATION:ArtFarm Annapolis\, 111 Chinquapin Round Rd.\, Suite 200\, Maryland\, Annapolis
CATEGORIES:Classes,Visual
ATTACH;FMTTYPE=image/png:https://www.acaac.org/wp-content/uploads/2026/01/Copy-of-Untitled-Design-3.png
ORGANIZER;CN="ArtFarm Studios":MAILTO:info@artfarmannapolis.com
END:VEVENT
BEGIN:VEVENT
DTSTART;TZID=America/New_York:20260121T080000
DTEND;TZID=America/New_York:20260121T170000
DTSTAMP:20260420T173438
CREATED:20251205T162328Z
LAST-MODIFIED:20251208T164210Z
UID:10012118-1768982400-1769014800@www.acaac.org
SUMMARY:Small Gems at McBride Gallery
DESCRIPTION:‘Tis the Season for tiny treasures! We are featuring an array of Small Gems pieces throughout December and into the New Year. We are also featuring new work by Victor Nizovstev. The McBride Gallery is brimming with holiday spirit\, and the artists are excited to share what they have made.
URL:https://www.acaac.org/event/small-gems/2026-01-21/
LOCATION:McBride Gallery\, 215 Main Street\, Annapolis\, MD\, 21108\, United States
CATEGORIES:Exhibit,Visual
ATTACH;FMTTYPE=image/jpeg:https://www.acaac.org/wp-content/uploads/2025/12/2025SmallGemsShow.jpg
ORGANIZER;CN="McBride Gallery":MAILTO:info@mcbridegallery.com
END:VEVENT
BEGIN:VEVENT
DTSTART;TZID=America/New_York:20260120T183000
DTEND;TZID=America/New_York:20260120T203000
DTSTAMP:20260420T173438
CREATED:20250120T212905Z
LAST-MODIFIED:20250211T212248Z
UID:10003952-1768933800-1768941000@www.acaac.org
SUMMARY:Watercolor for Beginners (4 week)
DESCRIPTION:Completely new to watercolor or want to brush up on your brushwork? Whether you have painted with watercolor before or are a complete novice\, you can feel comfortable and accomplished each week with this watercolor class.\nArtFarm instructor and painter\, Cat Dolch\, will demonstrate and integrate a variety of techniques into each week’s lesson. With a new subject each week\, feel free to bring an inspiration reference photo (either printed out or on your phone) or we can provide some excellent references. \nChallenge yourself and get creative with some traditional brushwork and techniques\, color blending\, and composition in this multi-week class. \nAll materials provided\, but if you have your own paints or brushes you want to use\, feel free to bring them along with you!
URL:https://www.acaac.org/event/watercolor-for-beginners-4-week-2/2026-01-20/
LOCATION:ArtFarm Studios\, 111 Chinquapin Round Rd. Suite 200\, Annapolis\, MD\, 21401\, United States
CATEGORIES:Classes
ATTACH;FMTTYPE=image/jpeg:https://www.acaac.org/wp-content/uploads/2024/12/IMG_6674.jpeg
ORGANIZER;CN="ArtFarm Studios":MAILTO:info@artfarmannapolis.com
END:VEVENT
BEGIN:VEVENT
DTSTART;TZID=America/New_York:20260120T183000
DTEND;TZID=America/New_York:20260120T203000
DTSTAMP:20260420T173438
CREATED:20250120T212803Z
LAST-MODIFIED:20250211T211046Z
UID:10003852-1768933800-1768941000@www.acaac.org
SUMMARY:Intermediate Watercolor Workshop (4 weeks)
DESCRIPTION:Have you taken our Beginner Watercolor Workshop or are ready to build on your current skills?\nLearn new techniques\, and collaborate with other watercolorists in a studio environment. \nArtFarm instructor and painter\, Cat Dolch\, will lead the class in developing techniques\, including sketching and composition\, adding value\, depth\, and texture\, traditional brushwork and techniques\, color blending\, and more. \nAll materials are provided\, but if you have your own brushes and paints that you like to use\, feel free to bring them along!
URL:https://www.acaac.org/event/intermediate-watercolor-workshop-4-weeks-2/2026-01-20/
LOCATION:ArtFarm Studios\, 111 Chinquapin Round Rd. Suite 200\, Annapolis\, MD\, 21401\, United States
CATEGORIES:Classes,Visual
ATTACH;FMTTYPE=image/heic:https://www.acaac.org/wp-content/uploads/2024/12/IMG_5684-scaled.jpg
ORGANIZER;CN="ArtFarm Studios":MAILTO:info@artfarmannapolis.com
END:VEVENT
BEGIN:VEVENT
DTSTART;TZID=America/New_York:20260120T080000
DTEND;TZID=America/New_York:20260125T233000
DTSTAMP:20260420T173438
CREATED:20260120T162224Z
LAST-MODIFIED:20260120T162224Z
UID:10014163-1768896000-1769383800@www.acaac.org
SUMMARY:AUDITIONS "The Importance of Being Earnest" Staged Reading
DESCRIPTION:Audition Call – Valentine’s Edition! \nPasadena Theatre Company is seeking actors for a staged reading of Oscar Wilde’s “The Importance of Being Earnest” — a sparkling romantic comedy\, perfect for Valentine’s weekend.\nPerformances: Fri\, February 13 at 7:30 PM & Sat\, February 14 at 3:00 PM\n Rehearsals: 2–3 in-person rehearsals\, based on cast availability\nTrinity United Methodist Church\, 952 Patuxent Rd\, Odenton\, MD 21113\n\nTo be considered for a role\, please fill out our Google audition form and attach a video recorded 1–2 minute comedic monologue by Sunday\, January 25: https://forms.gle/YmyS6tusiwk5o8ZLA \n\n\n\n\nLow commitment\, high charm\, and lots of love — no memorization required.\n British accents welcome if you have one!\nCome share the romance\, the wit\, & get Wilde with PTC this Valentine’s Day.
URL:https://www.acaac.org/event/auditions-the-importance-of-being-earnest-staged-reading/
LOCATION:Trinity United Methodist Church\, 952 Patuxent Rd\, Odenton\, MD\, 21113\, United States
CATEGORIES:Performance
ATTACH;FMTTYPE=image/png:https://www.acaac.org/wp-content/uploads/2026/01/earnestwolvesauditionannouncement-Facebook-Cover-scaled.png
ORGANIZER;CN="Pasadena Theatre Company":MAILTO:sharon@ptcshows.com
END:VEVENT
BEGIN:VEVENT
DTSTART;TZID=America/New_York:20260113T150000
DTEND;TZID=America/New_York:20260217T170000
DTSTAMP:20260420T173438
CREATED:20260105T173432Z
LAST-MODIFIED:20260105T173432Z
UID:10013526-1768316400-1771347600@www.acaac.org
SUMMARY:Clay and Company: A hand building class
DESCRIPTION:Tuesdays\, Jan 13- Feb 17\, 2026 \nTime: 3-5 PM \nInstructor: Jay Anderson\, Ph.D. \nIn this 6 week class you will explore pinch\, coil\, and slab processes to make bowls and vases. You will also learn how to make and use sprig molds for surface decoration. We will talk about glaze processes and personal style. \n$280 for non members \n$240 for Arts Lab members \n$30.00 materials fee is included in the cost of the class. \nMinimum of 4 participants required to run the class\, Ages 16+.
URL:https://www.acaac.org/event/clay-and-company-a-hand-building-class/
LOCATION:Arts Lab of South County\, 312 Deale Road\, Tracys landing\, MD\, 20779
CATEGORIES:Classes
ATTACH;FMTTYPE=image/jpeg:https://www.acaac.org/wp-content/uploads/2026/01/IMG_0267-scaled.jpeg
ORGANIZER;CN="Arts Lab of South County":MAILTO:info@artslab-sc.org
END:VEVENT
BEGIN:VEVENT
DTSTART;VALUE=DATE:20260105
DTEND;VALUE=DATE:20260125
DTSTAMP:20260420T173438
CREATED:20251002T183340Z
LAST-MODIFIED:20251002T183340Z
UID:10011116-1767571200-1769299199@www.acaac.org
SUMMARY:Winter Member Show at MFA Circle Gallery
DESCRIPTION:Introducing the Winter Member Show\nMaryland Federation of Art (MFA) invites all MFA Members residing in any of the states or territories of the US\, Canada\, and Mexico to enter our Winter Member Show 2026. Any original 2D or 3D work will be considered\, and works selected by the juror will be exhibited in the MFA’s Circle Gallery from January 5 – 24\, 2026.
URL:https://www.acaac.org/event/winter-member-show-at-mfa-circle-gallery/
LOCATION:Circle Gallery\, 18 State Circle\, Annapolis\, MD\, 21401\, United States
CATEGORIES:Exhibit,Visual
ATTACH;FMTTYPE=image/jpeg:https://www.acaac.org/wp-content/uploads/2025/10/md_256_f7879c.jpg
ORGANIZER;CN="Maryland Federation of Art":MAILTO:info@mdfedart.com
END:VEVENT
BEGIN:VEVENT
DTSTART;VALUE=DATE:20251215
DTEND;VALUE=DATE:20260201
DTSTAMP:20260420T173438
CREATED:20251002T183212Z
LAST-MODIFIED:20251002T183212Z
UID:10011115-1765756800-1769903999@www.acaac.org
SUMMARY:In Contrast 2025 at MFA Virtual Gallery
DESCRIPTION:Introducing In Contrast\nContrast is a dynamic force in artistic expression\, shaping perception\, guiding emotion\, and commanding attention. Whether through striking juxtapositions of light and dark\, bold complementary hues\, or the interplay of texture and form\, contrast heightens impact and deepens meaning. It is a tool that artists have long used to create tension\, harmony\, and visual intrigue.
URL:https://www.acaac.org/event/in-contrast-2025-at-mfa-virtual-gallery/
LOCATION:Circle Gallery\, 18 State Circle\, Annapolis\, MD\, 21401\, United States
CATEGORIES:Exhibit,Visual
ATTACH;FMTTYPE=image/jpeg:https://www.acaac.org/wp-content/uploads/2025/10/IC25-768x738-1.jpg
ORGANIZER;CN="Maryland Federation of Art":MAILTO:info@mdfedart.com
END:VEVENT
BEGIN:VEVENT
DTSTART;TZID=America/New_York:20251210T083000
DTEND;TZID=America/New_York:20260226T163000
DTSTAMP:20260420T173438
CREATED:20251209T184615Z
LAST-MODIFIED:20251209T184615Z
UID:10012910-1765355400-1772123400@www.acaac.org
SUMMARY:Dual Solo Exhibitions at Arundel Center
DESCRIPTION:Anne Arundel County and the Arts Council of Anne Arundel County present the Winter 2025 Solo Exhibitions at the Arundel Center.\nFeaturing artists Joshua Able and Graig Bracey\, the exhibitions will be on display from December 10\, 2025 to February 26\, 2026. 📸\n\nJoin us for a reception to celebrate these talented artists on Monday\, December 15\, 2025\, from 4:30 to 5:30 PM.\n\nThe Arundel Center is located at\n44 Calvert Street\,\nAnnapolis\, MD.\n 
URL:https://www.acaac.org/event/dual-solo-exhibitions-at-arundel-center/
LOCATION:Arundel Center\, 44 Calvert Street\, Annapolis\, MD\, 21401\, United States
CATEGORIES:ACAAC Exhibit,Exhibit
ATTACH;FMTTYPE=image/png:https://www.acaac.org/wp-content/uploads/2025/12/Bracey-and-Able_AC-Winter-2025-1-scaled.png
ORGANIZER;CN="Arts Council of Anne Arundel County":MAILTO:info@acaac.org
END:VEVENT
BEGIN:VEVENT
DTSTART;VALUE=DATE:20251119
DTEND;VALUE=DATE:20260317
DTSTAMP:20260420T173438
CREATED:20251117T211143Z
LAST-MODIFIED:20251223T162858Z
UID:10011856-1763510400-1773705599@www.acaac.org
SUMMARY:What A Wonderful World
DESCRIPTION:This exhibition invites artists and creators to showcase the beauty\, diversity\, and awe-inspiring wonders of our planet through the lens of art and creativity. From the majesty of landscapes\, the vibrancy of human culture\, and the delicate balance of life on Earth\, “What a Wonderful World” explores the natural splendor\, cultural richness\, and profound connections that make the Earth a remarkable place to live and explore \nThrough various media—painting\, sculpture\, photography\, digital art\, and other 2D media—”What a Wonderful World” will take visitors on a visual journey across continents\, highlighting both the vastness and the intimate moments that define our shared experience on this planet. Visit the online gallery here. \nOn display at the Gateway Gallery in Baltimore-Washington International Thurgood Marshall Airport between concourses C & D (pre-security) in departures from November 17\, 2025\, to March 16\, 2026.
URL:https://www.acaac.org/event/what-a-wonderful-world/
LOCATION:BWI Airport\, 1743 West Nursery Road\, Linthicum Heights\, Maryland\, 21090
CATEGORIES:ACAAC Exhibit,Exhibit
ATTACH;FMTTYPE=image/png:https://www.acaac.org/wp-content/uploads/2025/11/What-a-wonderful-world-Poster-scaled.png
END:VEVENT
END:VCALENDAR