BEGIN:VCALENDAR
VERSION:2.0
PRODID:-//Arts Council of Anne Arundel County - ECPv6.15.18//NONSGML v1.0//EN
CALSCALE:GREGORIAN
METHOD:PUBLISH
X-ORIGINAL-URL:https://www.acaac.org
X-WR-CALDESC:Events for Arts Council of Anne Arundel County
REFRESH-INTERVAL;VALUE=DURATION:PT1H
X-Robots-Tag:noindex
X-PUBLISHED-TTL:PT1H
BEGIN:VTIMEZONE
TZID:America/New_York
BEGIN:DAYLIGHT
TZOFFSETFROM:-0500
TZOFFSETTO:-0400
TZNAME:EDT
DTSTART:20250309T070000
END:DAYLIGHT
BEGIN:STANDARD
TZOFFSETFROM:-0400
TZOFFSETTO:-0500
TZNAME:EST
DTSTART:20251102T060000
END:STANDARD
BEGIN:DAYLIGHT
TZOFFSETFROM:-0500
TZOFFSETTO:-0400
TZNAME:EDT
DTSTART:20260308T070000
END:DAYLIGHT
BEGIN:STANDARD
TZOFFSETFROM:-0400
TZOFFSETTO:-0500
TZNAME:EST
DTSTART:20261101T060000
END:STANDARD
BEGIN:DAYLIGHT
TZOFFSETFROM:-0500
TZOFFSETTO:-0400
TZNAME:EDT
DTSTART:20270314T070000
END:DAYLIGHT
BEGIN:STANDARD
TZOFFSETFROM:-0400
TZOFFSETTO:-0500
TZNAME:EST
DTSTART:20271107T060000
END:STANDARD
END:VTIMEZONE
BEGIN:VEVENT
DTSTART;VALUE=DATE:20260115
DTEND;VALUE=DATE:20260511
DTSTAMP:20260425T104050
CREATED:20260102T160014Z
LAST-MODIFIED:20260302T154510Z
UID:10013524-1768435200-1778457599@www.acaac.org
SUMMARY:Ken Friedman: 92 Events
DESCRIPTION:Ken Friedman: 92 Events presents instruction-based artworks spanning six decades by Sweden-based\, American-born Fluxus artist Ken Friedman. Visitors are invited to realize the artworks in their minds or\, better yet\, in real life. \nThe exhibition also includes contributions from Austin Sposato (with Chip Noland & Jeremy Olsen)\, David and Tara Gladden\, Eric Leshinsky\, Leslie Rose\, Robert Haywood\, Robert W. Madden\, Roderick Mincher\, Ruben Dobbs (filmed by Alison Harbaugh)\, Sammy Young\, Tom Levine\, and Wilfredo Valladares. \nAdmission is free \nExhibition on view January 15–May 10\, 2026 \nMuseum hours\nThursdays\, 10 a.m.–6 p.m.\nFridays\, 2:00–7:30 p.m.\nSaturdays\, 10 a.m.–6 p.m.\nSundays\, 10 a.m.–6 p.m. \nFree parking is available in campus lots off of St. John’s Street on Saturdays and Sundays\, as well as on Friday nights after 5 p.m. \nThe venue is on the ground floor and accessible to people with mobility challenges.
URL:https://www.acaac.org/event/ken-friedman-92-events/
LOCATION:Elizabeth Myers Mitchell Art Museum\, 60 College Avenue\, Annapolis\, Maryland\, 21401
CATEGORIES:Exhibit,Visual
ATTACH;FMTTYPE=image/jpeg:https://www.acaac.org/wp-content/uploads/2026/01/KF-ACAAC.jpg
END:VEVENT
BEGIN:VEVENT
DTSTART;TZID=America/New_York:20260419T093000
DTEND;TZID=America/New_York:20260419T103000
DTSTAMP:20260425T104050
CREATED:20260120T155526Z
LAST-MODIFIED:20260126T190035Z
UID:10014022-1776591000-1776594600@www.acaac.org
SUMMARY:Yoga in the Gallery
DESCRIPTION:AND Relax… Yoga Series Sundays | 9:30 AM | AND Creative Gallery \nCome as you are\, leave inspired — AND Relax is your monthly gallery-inspired yoga series designed to move your body\, spark your creativity\, and recharge your mind. Each Sunday session blends mindful vinyasa\, playful flows\, and meditative stretches in the beautiful space of AND Creative Gallery\, surrounded by art that inspires movement and imagination. \nOnce a month (last Sunday of each month)\, we turn up the volume on creativity with our themed flows: \n\n\n\nAND Bend Ova – Afrobeat-inspired flow: let rhythm guide your body and loosen your edges.\nAND Drop It Low – Hip-Hop / R&B flow: grounded\, bold\, and full of attitude.\nAND Twist & Shout – Rock ‘n’ Roll yoga: energizing\, dynamic\, and full of power.\nAND Stretch – R&B Slow It Down: deep stretch\, meditative\, and restorative.\nAND Pop & (un)Lock – Pop music + movement yoga: playful\, upbeat\, and fun.\nAND Chill Out – Lo-fi / Chill Hop restorative yoga: slow\, restorative\, and fully zen.\n\n\n\n  \nWhether you’re here for sweat\, stretch\, or stillness\, AND Relax invites you to move at your own pace\, explore your creativity\, and connect with a community’s curious and playful minds.
URL:https://www.acaac.org/event/yoga-in-the-gallery/2026-04-19/
LOCATION:ArtFarm Annapolis\, 111 Chinquapin Round Rd.\, Suite 200\, Maryland\, Annapolis
CATEGORIES:Classes,Visual
ATTACH;FMTTYPE=image/jpeg:https://www.acaac.org/wp-content/uploads/2026/01/IMG_2380.jpg
ORGANIZER;CN="ArtFarm Studios":MAILTO:info@artfarmannapolis.com
END:VEVENT
BEGIN:VEVENT
DTSTART;TZID=America/New_York:20260419T110000
DTEND;TZID=America/New_York:20260419T173000
DTSTAMP:20260425T104050
CREATED:20260413T160320Z
LAST-MODIFIED:20260413T160320Z
UID:10014617-1776596400-1776619800@www.acaac.org
SUMMARY:All Things Great and Small Exhibit
DESCRIPTION:On view April 11 – May 24\nAn Exhibit about scale and the artist’s voice.\n\n\n\n\nThis show offers a curated view of work expressed in scales\, both big and small. This group show features a variety of styles and mediums for you to enjoy. \nParticipating Artists \nJorge Alberto\, Jill Basham\, Chris Best\, Kathy Daywalt\, Christine Drewyer\, Lois Engberg\, Micheal Godfrey\, Bruce Handford\, Matthew Hillier\, Liz Lescault\, Maria Marino\, Abigail McBride\, Terry Miller\, Barbara Nuss\, Julia Rogers & Paula Waterman
URL:https://www.acaac.org/event/all-things-great-and-small-exhibit/2026-04-19/
LOCATION:McBride Gallery\, 215 Main Street\, Annapolis\, MD\, 21108\, United States
CATEGORIES:Exhibit,Visual
ATTACH;FMTTYPE=image/jpeg:https://www.acaac.org/wp-content/uploads/2026/04/All-things-2026-graphicforArtsCouncil.jpg
ORGANIZER;CN="McBride Gallery":MAILTO:info@mcbridegallery.com
END:VEVENT
END:VCALENDAR